BEGIN:VCALENDAR
VERSION:2.0
PRODID:spatie/icalendar-generator
DESCRIPTION:Events from 
X-WR-CALDESC:Events from 
REFRESH-INTERVAL;VALUE=DURATION:PT1440M
X-PUBLISHED-TTL:PT1440M
BEGIN:VTIMEZONE
TZID:America/New_York
BEGIN:STANDARD
DTSTART:20251102T020000Z
TZOFFSETFROM:-0400
TZOFFSETTO:-0500
END:STANDARD
BEGIN:DAYLIGHT
DTSTART:20260308T020000Z
TZOFFSETFROM:-0500
TZOFFSETTO:-0400
END:DAYLIGHT
BEGIN:STANDARD
DTSTART:20261101T020000Z
TZOFFSETFROM:-0400
TZOFFSETTO:-0500
END:STANDARD
END:VTIMEZONE
BEGIN:VTIMEZONE
TZID:UTC
BEGIN:STANDARD
DTSTART:20250726T172933Z
TZOFFSETFROM:+0000
TZOFFSETTO:+0000
END:STANDARD
END:VTIMEZONE
BEGIN:VEVENT
UID:593-42
DTSTAMP:20260422T172933Z
SUMMARY:Saturday Social
LOCATION:Two Left Feet Dance Studio 1404 Kiln Creek Parkway  Newport News V
 A 23602
ORGANIZER;CN=jmitchell30:MAILTO:jmitchell30@cox.net
RRULE:FREQ=WEEKLY;UNTIL=20261212T000000Z
DTSTART;TZID=America/New_York:20260523T183000
DTEND;TZID=America/New_York:20260523T220000
X-ALT-DESC;FMTTYPE=TEXT/HTML:
CATEGORIES:Saturday Social
URL;VALUE=URI:https://colonialshagclub.com/mc-events/saturday-social-3/?mc_
 id=593
METHOD:PUBLISH
END:VEVENT
END:VCALENDAR