BEGIN:VCALENDAR
VERSION:2.0
PRODID:spatie/icalendar-generator
DESCRIPTION:Events from 
X-WR-CALDESC:Events from 
REFRESH-INTERVAL;VALUE=DURATION:PT1440M
X-PUBLISHED-TTL:PT1440M
BEGIN:VTIMEZONE
TZID:America/New_York
BEGIN:STANDARD
DTSTART:20251102T020000Z
TZOFFSETFROM:-0400
TZOFFSETTO:-0500
END:STANDARD
BEGIN:DAYLIGHT
DTSTART:20260308T020000Z
TZOFFSETFROM:-0500
TZOFFSETTO:-0400
END:DAYLIGHT
END:VTIMEZONE
BEGIN:VTIMEZONE
TZID:UTC
BEGIN:STANDARD
DTSTART:20250726T161932Z
TZOFFSETFROM:+0000
TZOFFSETTO:+0000
END:STANDARD
END:VTIMEZONE
BEGIN:VEVENT
UID:639-10
DTSTAMP:20260422T161932Z
SUMMARY:Boogie on The Bay Social
LOCATION:
ORGANIZER;CN=Joe Mitchell:MAILTO:jmatgoog@gmail.com
RRULE:FREQ=WEEKLY;UNTIL=20270129T000000Z
DTSTART;TZID=America/New_York:20260410T180000
DTEND;TZID=America/New_York:20260410T210000
X-ALT-DESC;FMTTYPE=TEXT/HTML:Boogie on the Bay social at Woody's Raw Bar\, 
 Chesapeake Square\, Portsmouth VA . . .  check their web page for any var
 iations
CATEGORIES:Other Club Function
URL;VALUE=URI:https://colonialshagclub.com/mc-events/boogie-on-the-bay-soci
 al/?mc_id=639
METHOD:PUBLISH
END:VEVENT
END:VCALENDAR