BEGIN:VCALENDAR
VERSION:2.0
PRODID:spatie/icalendar-generator
DESCRIPTION:Events from 
X-WR-CALDESC:Events from 
REFRESH-INTERVAL;VALUE=DURATION:PT1440M
X-PUBLISHED-TTL:PT1440M
BEGIN:VTIMEZONE
TZID:America/New_York
BEGIN:STANDARD
DTSTART:20251102T020000Z
TZOFFSETFROM:-0400
TZOFFSETTO:-0500
END:STANDARD
BEGIN:DAYLIGHT
DTSTART:20260308T020000Z
TZOFFSETFROM:-0500
TZOFFSETTO:-0400
END:DAYLIGHT
END:VTIMEZONE
BEGIN:VTIMEZONE
TZID:UTC
BEGIN:STANDARD
DTSTART:20250726T155513Z
TZOFFSETFROM:+0000
TZOFFSETTO:+0000
END:STANDARD
END:VTIMEZONE
BEGIN:VEVENT
UID:805-3
DTSTAMP:20260422T155513Z
SUMMARY:BOTB Shag Club Lessons
LOCATION:
ORGANIZER;CN=Joe Mitchell:MAILTO:jmatgoog@gmail.com
RRULE:FREQ=WEEKLY;UNTIL=20270126T000000Z
DTSTART;TZID=America/New_York:20260407T190000
DTEND;TZID=America/New_York:20260407T210000
X-ALT-DESC;FMTTYPE=TEXT/HTML:BOTB Shag Club Lessons (Check with BOTB for an
 y variations)
CATEGORIES:Other Club Function
URL;VALUE=URI:https://colonialshagclub.com/mc-events/botb-shag-club-lessons
 /?mc_id=805
METHOD:PUBLISH
END:VEVENT
END:VCALENDAR