BEGIN:VCALENDAR
VERSION:2.0
PRODID:spatie/icalendar-generator
DESCRIPTION:Events from 
X-WR-CALDESC:Events from 
REFRESH-INTERVAL;VALUE=DURATION:PT1440M
X-PUBLISHED-TTL:PT1440M
BEGIN:VTIMEZONE
TZID:America/New_York
BEGIN:STANDARD
DTSTART:20251102T020000Z
TZOFFSETFROM:-0400
TZOFFSETTO:-0500
END:STANDARD
BEGIN:DAYLIGHT
DTSTART:20260308T020000Z
TZOFFSETFROM:-0500
TZOFFSETTO:-0400
END:DAYLIGHT
END:VTIMEZONE
BEGIN:VTIMEZONE
TZID:UTC
BEGIN:STANDARD
DTSTART:20250726T160015Z
TZOFFSETFROM:+0000
TZOFFSETTO:+0000
END:STANDARD
END:VTIMEZONE
BEGIN:VEVENT
UID:859-48
DTSTAMP:20260422T160015Z
SUMMARY:Open Door\, Open Floor at TLF
LOCATION:
ORGANIZER;CN=jmitchell30:MAILTO:jmitchell30@cox.net
RRULE:FREQ=WEEKLY;UNTIL=20270125T000000Z
DTSTART;TZID=America/New_York:20260330T200000
DTEND;TZID=America/New_York:20260330T210000
X-ALT-DESC;FMTTYPE=TEXT/HTML:Shag dance \"practice\" on Monday nights in Ne
 wport News — free Rick Tvelia\, owner of Two Left Feet Dance Studio\, of
 fers open dancing for shaggers on Monday nights at 8pm at his dance studio
 . It’s a great opportunity to practice steps/moves\, learn something new
 \, ask for help\, help someone else\, and just dance! No partner&amp;hellip\;
CATEGORIES:Other Club Function
URL;VALUE=URI:https://colonialshagclub.com/mc-events/open-door-open-floor-a
 t-tlf/?mc_id=859
METHOD:PUBLISH
END:VEVENT
END:VCALENDAR