BEGIN:VCALENDAR
VERSION:2.0
PRODID:spatie/icalendar-generator
DESCRIPTION:Events from 
X-WR-CALDESC:Events from 
REFRESH-INTERVAL;VALUE=DURATION:PT1440M
X-PUBLISHED-TTL:PT1440M
BEGIN:VTIMEZONE
TZID:America/New_York
BEGIN:STANDARD
DTSTART:20251102T020000Z
TZOFFSETFROM:-0400
TZOFFSETTO:-0500
END:STANDARD
BEGIN:DAYLIGHT
DTSTART:20260308T020000Z
TZOFFSETFROM:-0500
TZOFFSETTO:-0400
END:DAYLIGHT
END:VTIMEZONE
BEGIN:VTIMEZONE
TZID:UTC
BEGIN:STANDARD
DTSTART:20250726T155911Z
TZOFFSETFROM:+0000
TZOFFSETTO:+0000
END:STANDARD
END:VTIMEZONE
BEGIN:VEVENT
UID:933-62
DTSTAMP:20260422T155911Z
SUMMARY:CSC Board Meeting
LOCATION:
ORGANIZER;CN=jmitchell30:MAILTO:jmitchell30@cox.net
DTSTART;TZID=America/New_York:20260404T170000
DTEND;TZID=America/New_York:20260404T180000
X-ALT-DESC;FMTTYPE=TEXT/HTML:
CATEGORIES:Board Meeting
URL;VALUE=URI:https://colonialshagclub.com/mc-events/csc-board-meeting-5/
METHOD:PUBLISH
END:VEVENT
END:VCALENDAR